BEGIN:VCALENDAR
VERSION:2.0
PRODID:-//hacksw/handcal//NONSGML v1.0//EN
CALSCALE:GREGORIAN
BEGIN:VTIMEZONE
TZID:Europe/Berlin
BEGIN:DAYLIGHT
TZOFFSETFROM:+0100
TZOFFSETTO:+0200
TZNAME:Central European Summer Time
DTSTART:20260629T100000
RRULE:FREQ=YEARLY;BYDAY=-1SU;BYMONTH=3
END:DAYLIGHT
BEGIN:STANDARD
TZOFFSETFROM:+0200
TZOFFSETTO:+0100
TZNAME:Central European Time
DTSTART:20260629T100000
RRULE:FREQ=YEARLY;BYDAY=-1SU;BYMONTH=10
END:STANDARD
END:VTIMEZONE
BEGIN:VEVENT
DTSTART:20260629T100000
DTEND:20260629T103000
LOCATION:ZOOM
SUMMARY:Create it! 30 Minuten zu: Social-Media-Designvorlagen mit Canva
URL;VALUE=URI:https://www.mmkh.de/schulungen/social-media/detail/2026-06-29-create-it-30-minuten-zu-social-media-designvorlagen-mit-canva
DTSTAMP:20260426T025456
UID:69ed6260a203c
END:VEVENT
END:VCALENDAR