BEGIN:VCALENDAR
VERSION:2.0
PRODID:-//hacksw/handcal//NONSGML v1.0//EN
CALSCALE:GREGORIAN
BEGIN:VTIMEZONE
TZID:Europe/Berlin
BEGIN:DAYLIGHT
TZOFFSETFROM:+0100
TZOFFSETTO:+0200
TZNAME:Central European Summer Time
DTSTART:20260428T100000
RRULE:FREQ=YEARLY;BYDAY=-1SU;BYMONTH=3
END:DAYLIGHT
BEGIN:STANDARD
TZOFFSETFROM:+0200
TZOFFSETTO:+0100
TZNAME:Central European Time
DTSTART:20260428T100000
RRULE:FREQ=YEARLY;BYDAY=-1SU;BYMONTH=10
END:STANDARD
END:VTIMEZONE
BEGIN:VEVENT
DTSTART:20260428T100000
DTEND:20260428T113000
LOCATION:ZOOM
SUMMARY:Rechtliche Grundlagen der Nachhaltigkeit im Hochschulkontext
URL;VALUE=URI:https://www.mmkh.de/schulungen/medienrecht/detail/2026-04-28-rechtliche-grundlagen-der-nachhaltigkeit-im-hochschulkontext
DTSTAMP:20260426T025038
UID:69ed615e54b83
END:VEVENT
END:VCALENDAR