BEGIN:VCALENDAR
VERSION:2.0
PRODID:-//hacksw/handcal//NONSGML v1.0//EN
CALSCALE:GREGORIAN
BEGIN:VTIMEZONE
TZID:Europe/Berlin
BEGIN:DAYLIGHT
TZOFFSETFROM:+0100
TZOFFSETTO:+0200
TZNAME:Central European Summer Time
DTSTART:20260423T100000
RRULE:FREQ=YEARLY;BYDAY=-1SU;BYMONTH=3
END:DAYLIGHT
BEGIN:STANDARD
TZOFFSETFROM:+0200
TZOFFSETTO:+0100
TZNAME:Central European Time
DTSTART:20260423T100000
RRULE:FREQ=YEARLY;BYDAY=-1SU;BYMONTH=10
END:STANDARD
END:VTIMEZONE
BEGIN:VEVENT
DTSTART:20260423T100000
DTEND:20260423T120000
LOCATION:ZOOM
SUMMARY:Von der Idee zur 3D-Welt: Einstieg in die 3D-Entwicklung mit der Game-Engine Unreal - Teil 1
URL;VALUE=URI:https://www.mmkh.de/schulungen/medienproduktion/detail/2026-04-23-von-der-idee-zur-3d-welt-einstieg-in-die-3d-entwicklung-mit-der-game-engine-unreal-teil-1
DTSTAMP:20260421T105748
UID:69e73c0c7b60c
END:VEVENT
END:VCALENDAR