BEGIN:VCALENDAR
VERSION:2.0
PRODID:-//hacksw/handcal//NONSGML v1.0//EN
CALSCALE:GREGORIAN
BEGIN:VTIMEZONE
TZID:Europe/Berlin
BEGIN:DAYLIGHT
TZOFFSETFROM:+0100
TZOFFSETTO:+0200
TZNAME:Central European Summer Time
DTSTART:20260617T100000
RRULE:FREQ=YEARLY;BYDAY=-1SU;BYMONTH=3
END:DAYLIGHT
BEGIN:STANDARD
TZOFFSETFROM:+0200
TZOFFSETTO:+0100
TZNAME:Central European Time
DTSTART:20260617T100000
RRULE:FREQ=YEARLY;BYDAY=-1SU;BYMONTH=10
END:STANDARD
END:VTIMEZONE
BEGIN:VEVENT
DTSTART:20260617T100000
DTEND:20260617T103000
LOCATION:ZOOM
SUMMARY:Let’s work! 30 Minuten zu Microsoft Copilot
URL;VALUE=URI:https://www.mmkh.de/schulungen/kuenstliche-intelligenz/detail/2026-06-17-lets-work-30-minuten-zu-microsoft-copilot
DTSTAMP:20260421T110332
UID:69e73d64b580f
END:VEVENT
END:VCALENDAR