BEGIN:VCALENDAR
VERSION:2.0
PRODID:-//hacksw/handcal//NONSGML v1.0//EN
CALSCALE:GREGORIAN
BEGIN:VTIMEZONE
TZID:Europe/Berlin
BEGIN:DAYLIGHT
TZOFFSETFROM:+0100
TZOFFSETTO:+0200
TZNAME:Central European Summer Time
DTSTART:20260611T100000
RRULE:FREQ=YEARLY;BYDAY=-1SU;BYMONTH=3
END:DAYLIGHT
BEGIN:STANDARD
TZOFFSETFROM:+0200
TZOFFSETTO:+0100
TZNAME:Central European Time
DTSTART:20260611T100000
RRULE:FREQ=YEARLY;BYDAY=-1SU;BYMONTH=10
END:STANDARD
END:VTIMEZONE
BEGIN:VEVENT
DTSTART:20260611T100000
DTEND:20260611T103000
LOCATION:ZOOM
SUMMARY:Unleash your Creativity! 30-minütige Einführung in das AI-Text-zu-Bild-Tool: Leonardo.AI
URL;VALUE=URI:https://www.mmkh.de/schulungen/kuenstliche-intelligenz/detail/2026-06-11-unleash-your-creativity-30-minuetige-einfuehrung-in-das-ai-text-zu-bild-tool-leonardoai
DTSTAMP:20260421T110408
UID:69e73d88b5f55
END:VEVENT
END:VCALENDAR