BEGIN:VCALENDAR
VERSION:2.0
PRODID:-//hacksw/handcal//NONSGML v1.0//EN
CALSCALE:GREGORIAN
BEGIN:VTIMEZONE
TZID:Europe/Berlin
BEGIN:DAYLIGHT
TZOFFSETFROM:+0100
TZOFFSETTO:+0200
TZNAME:Central European Summer Time
DTSTART:20260602T100000
RRULE:FREQ=YEARLY;BYDAY=-1SU;BYMONTH=3
END:DAYLIGHT
BEGIN:STANDARD
TZOFFSETFROM:+0200
TZOFFSETTO:+0100
TZNAME:Central European Time
DTSTART:20260602T100000
RRULE:FREQ=YEARLY;BYDAY=-1SU;BYMONTH=10
END:STANDARD
END:VTIMEZONE
BEGIN:VEVENT
DTSTART:20260602T100000
DTEND:20260602T103000
LOCATION:ZOOM
SUMMARY:Neuronale Netze und Sprachmodelle verstehen: KI-Grundlagen in 30 Minuten
URL;VALUE=URI:https://www.mmkh.de/schulungen/kuenstliche-intelligenz/detail/2026-06-02-neuronale-netze-und-sprachmodelle-verstehen-ki-grundlagen-in-30-minuten
DTSTAMP:20260422T201152
UID:69e90f6856220
END:VEVENT
END:VCALENDAR