BEGIN:VCALENDAR
VERSION:2.0
PRODID:-//hacksw/handcal//NONSGML v1.0//EN
CALSCALE:GREGORIAN
BEGIN:VTIMEZONE
TZID:Europe/Berlin
BEGIN:DAYLIGHT
TZOFFSETFROM:+0100
TZOFFSETTO:+0200
TZNAME:Central European Summer Time
DTSTART:20260520T100000
RRULE:FREQ=YEARLY;BYDAY=-1SU;BYMONTH=3
END:DAYLIGHT
BEGIN:STANDARD
TZOFFSETFROM:+0200
TZOFFSETTO:+0100
TZNAME:Central European Time
DTSTART:20260520T100000
RRULE:FREQ=YEARLY;BYDAY=-1SU;BYMONTH=10
END:STANDARD
END:VTIMEZONE
BEGIN:VEVENT
DTSTART:20260520T100000
DTEND:20260520T103000
LOCATION:ZOOM
SUMMARY:Level up your Podcast! 30 Minuten zu: KI-gestützte Audiobearbeitung mit Audacity
URL;VALUE=URI:https://www.mmkh.de/schulungen/kuenstliche-intelligenz/detail/2026-05-20-level-up-your-podcast-30-minuten-zu-ki-gestuetzte-audiobearbeitung-mit-audacity
DTSTAMP:20260421T105554
UID:69e73b9aa71d3
END:VEVENT
END:VCALENDAR