BEGIN:VCALENDAR
VERSION:2.0
PRODID:-//hacksw/handcal//NONSGML v1.0//EN
CALSCALE:GREGORIAN
BEGIN:VTIMEZONE
TZID:Europe/Berlin
BEGIN:DAYLIGHT
TZOFFSETFROM:+0100
TZOFFSETTO:+0200
TZNAME:Central European Summer Time
DTSTART:20260430T100000
RRULE:FREQ=YEARLY;BYDAY=-1SU;BYMONTH=3
END:DAYLIGHT
BEGIN:STANDARD
TZOFFSETFROM:+0200
TZOFFSETTO:+0100
TZNAME:Central European Time
DTSTART:20260430T100000
RRULE:FREQ=YEARLY;BYDAY=-1SU;BYMONTH=10
END:STANDARD
END:VTIMEZONE
BEGIN:VEVENT
DTSTART:20260430T100000
DTEND:20260430T103000
LOCATION:ZOOM
SUMMARY:Build it Smart! 30 Minuten zu: Individuelle KI-Assistenten (GPTs) mit ChatGPT erstellen
URL;VALUE=URI:https://www.mmkh.de/schulungen/kuenstliche-intelligenz/detail/2026-04-30-build-it-smart-30-minuten-zu-individuelle-ki-assistenten-gpts-mit-chatgpt-erstellen
DTSTAMP:20260419T161358
UID:69e4e326a651b
END:VEVENT
END:VCALENDAR