BEGIN:VCALENDAR
VERSION:2.0
PRODID:-//hacksw/handcal//NONSGML v1.0//EN
CALSCALE:GREGORIAN
BEGIN:VTIMEZONE
TZID:Europe/Berlin
BEGIN:DAYLIGHT
TZOFFSETFROM:+0100
TZOFFSETTO:+0200
TZNAME:Central European Summer Time
DTSTART:20260618T100000
RRULE:FREQ=YEARLY;BYDAY=-1SU;BYMONTH=3
END:DAYLIGHT
BEGIN:STANDARD
TZOFFSETFROM:+0200
TZOFFSETTO:+0100
TZNAME:Central European Time
DTSTART:20260618T100000
RRULE:FREQ=YEARLY;BYDAY=-1SU;BYMONTH=10
END:STANDARD
END:VTIMEZONE
BEGIN:VEVENT
DTSTART:20260618T100000
DTEND:20260618T120000
LOCATION:ZOOM
SUMMARY:FIONA - Ansprechende Webseiten gestalten: barrierefrei und datenschutzgerecht
URL;VALUE=URI:https://www.mmkh.de/schulungen/fiona/detail/2026-06-18-fiona-ansprechende-webseiten-gestalten-barrierefrei-und-datenschutzgerecht
DTSTAMP:20260421T132729
UID:69e75f2106cab
END:VEVENT
END:VCALENDAR